{"text_format":"1","workbook":"xlsx","n_sheets":8,"sheets":["ID Map","Status","Assessment","Course Timings","Glossary","Source Map","SME Questions","Raw Data-Course Timing"],"not_rendered":{"charts":0,"images":0,"macros":1,"external_links":0,"defined_names":5,"comments":1,"pivot_tables":0},"unopened":[],"bounds":{"document_bytes":16777216,"sheet_cells":100000,"rows_first":2000,"rows_last":500,"rows_between":2000,"halvings":0,"cell_chars":16384,"cell_head_chars":4096},"cells_cut":0,"cells_raw":0,"read":"whole","date_system":"1900"}

{"sheet":"ID Map","index":0,"n_rows":91,"n_cols":14,"rows_kept":91,"cut":false,"hidden":false,"merged":[[55,2,60,2],[21,2,25,2],[2,1,2,5],[3,1,3,5],[4,1,4,5],[17,1,32,1],[33,1,50,1],[26,2,30,2],[0,0,0,5],[49,3,49,5],[85,3,85,5],[31,3,31,5],[51,1,68,1],[69,1,86,1],[79,2,84,2],[73,2,78,2],[61,2,66,2],[44,2,48,2]]}
["Instructional Design Map:  "]
[]
[null,"Indicates a topic that has no source content available"]
[null,"Indicates a topic that has insufficient source content available"]
[null,"Indicates a question to SME"]
[]
["Course Aim","Course Objectives","Module Objectives","TOPIC","SUBTOPIC","CONTENT","Review Feedback","DURATION","MODULE","TYPE","LEVEL OF DETAIL","SOURCE CONTENT","INSTRUCTIONAL DESIGN APPROACH","NOTES"]
[]
["Course Aim",null,null,"Introduction",null,null,null," "]
[null,null,null,"Introduction",null,"High level overview of the purpose and aim of the course.",null,3,"Introduction","Content","low","NA"," "]
[null,null,null,"Course Introduction/Course Flow",null,"Overview of the structure of the course and content to be covered in the course.",null,3,"Introduction","Content","low","NA"]
[null,null,null,"Course Objectives",null,"Summary of objectives for the course.",null,3,"Introduction","Content","low","NA"]
[null,null,null,"Telsra Our Way Cultural Priorities",null,null,null,1,"Introduction","Content","low","NA"]
[null,null,null,"Tips for getting the most out of this course",null,null,null,3,"Introduction","Content","low","NA"]
[null,null,null,"Activity - Icebreaker  ",null,"Introductory activity to allow participants to introduce themselves to the group."," - D13",10,"Introduction","Activity","low","NA"]
[null,null,null,"Timetable",null,"Breakdown list of modules and times for the course.",null,1,"Introduction","Content","low","NA"]
[null,null,null,"Prerequisites/Post requisites",null,"List of pre and post requisite courses associatee with this course.",null,1,"Introduction","Content","low","NA"]
[null,"Course Objective",null,"Module One - Title",null," "]
[null,null,null,"Module Introduction"]
[null,null,null,"Module Introduction",null,"Overview of content to be covered in this module",null,3,"Module 1","Content","low","NA"]
[null,null,null,"Module One Objectives ",null,"Summary of objectives for this module",null,3,"Module 1","Content","low","NA"]
[null,null,"Module Objective","Section - Header Title"]
[null,null,null," ",null," ",null,null,"Module 1","Content"]
[null,null,null," ",null," ",null,null,"Module 1","Content"]
[null,null,null,"Checkpoint - Title",null,null,null,null,"Module 1","Activity"]
[null,null,null,"Activity - Title",null,null,null,null,"Module 1","Activity"]
[null,null,"Module Objective","Section - Header Title"]
[null,null,null," ",null," ",null,null,"Module 1","Content"]
[null,null,null," ",null," ",null,null,"Module 1","Content"]
[null,null,null,"Checkpoint - Title",null,null,null,null,"Module 1","Activity"]
[null,null,null,"Activity - Title",null,null,null,null,"Module 1","Activity"]
[null,null," ","Module Summary"]
[null,null,null,"Module One Summary",null,"Summary of key points from this module",null,3,"Module 1","Content","low"]
[null,"Course Objective",null,"Module Two - Title",null," "]
[null,null,null,"Module Introduction"]
[null,null,null,"Module Introduction",null,"Overview of content to be covered in this module",null,3,"Module 2","Content","low","NA"]
[null,null,null,"Module Two Objectives",null,"Summary of objectives for this module",null,3,"Module 2","Content","low","NA"]
[null,null,"Module Objective","Section - Header Title"]
[null,null,null,null,null,null,null,null,"Module 2","Content"]
[null,null,null,null,null,null,null,null,"Module 2","Content"]
[null,null,null,null,null,null,null,null,"Module 2","Content"]
[null,null,null,"Checkpoint - Title",null,null,null,null,"Module 2","Activity"]
[null,null,null,"Activity - Title",null,null,null,null,"Module 2","Activity"]
[null,null,"Module Objective","Section - Header Title"]
[null,null,null,null,null,null,null,null,"Module 2","Content"]
[null,null,null,null,null,null,null,null,"Module 2","Content"]
[null,null,null,null,null,null,null,null,"Module 2","Content"]
[null,null,null,"Checkpoint - Title",null,null,null,null,"Module 2","Activity"]
[null,null,null,"Activity - Title",null,null,null,null,"Module 2","Activity"]
[null,null,null,"Module Summary"]
[null,null,null,"Module Two Summary",null,"Summary of key points from this module",null,3,"Module 2","Content","low","NA"]
[null,"Course Objective",null,"Module Three - Title",null," "]
[null,null,null,"Module Introduction"]
[null,null,null,"Module Introduction",null,"Overview of content to be covered in this module",null,3,"Module 3","Content","low","NA"]
[null,null,null,"Module Three Objectives",null,"Summary of objectives for this module",null,3,"Module 3","Content","low","NA"]
[null,null,"Module Objective","Section - Header Title"]
[null,null,null,null,null,null,null,null,"Module 3","Content"]
[null,null,null,null,null,null,null,null,"Module 3","Content"]
[null,null,null,null,null,null,null,null,"Module 3","Content"]
[null,null,null,"Checkpoint - Title",null,null,null,null,"Module 3","Activity"]
[null,null,null,"Activity - Title",null,null,null,null,"Module 3","Activity"]
[null,null,"Module Objective","Section - Header Title"]
[null,null,null,null,null,null,null,null,"Module 3","Content"]
[null,null,null,null,null,null,null,null,"Module 3","Content"]
[null,null,null,null,null,null,null,null,"Module 3","Content"]
[null,null,null,"Checkpoint - Title",null,null,null,null,"Module 3","Activity"]
[null,null,null,"Activity - Title",null,null,null,null,"Module 3","Activity"]
[null,null,null,"Module Summary"]
[null,null,null,"Module Three Summary",null,"Summary of key points from this module",null,3,"Module 3","Content","low","NA"]
[null,"Course Objective",null,"Module Four- Title",null," "]
[null,null,null,"Module Introduction"]
[null,null,null,"Module Introduction",null,"Overview of content to be covered in this module",null,3,"Module 4","Content","low","NA"]
[null,null,null,"Module Four Objectives",null,"Summary of objectives for this module",null,3,"Module 4","Content","low","NA"]
[null,null,"Module Objective","Section - Header Title"]
[null,null,null,null,null,null,null,null,"Module 4","Content"]
[null,null,null,null,null,null,null,null,"Module 4","Content"]
[null,null,null,null,null,null,null,null,"Module 4","Content"]
[null,null,null,"Checkpoint - Title",null,null,null,null,"Module 4","Activity"]
[null,null,null,"Activity - Title",null,null,null,null,"Module 4","Activity"]
[null,null,"Module Objective","Section - Header Title"]
[null,null,null,null,null,null,null,null,"Module 4","Content"]
[null,null,null,null,null,null,null,null,"Module 4","Content"]
[null,null,null,null,null,null,null,null,"Module 4","Content"]
[null,null,null,"Checkpoint - Title",null,null,null,null,"Module 4","Activity"]
[null,null,null,"Activity - Title",null,null,null,null,"Module 4","Activity"]
[null,null,null,"Module Summary"]
[null,null,null,"Module Four Summary",null,"Summary of key points from this module",null,3,"Module 4","Content"]
[null,null,null,"Conclusion",null," "]
[null,null,null,"Course Summary",null,"Summary of key points from the course",null,9,"Conclusion","Content","low","NA"]
[null,null,null,"Course feedback form",null,"Participants will be provided with a course feedback form to complete and return to the trainer.",null,6,"Conclusion","Content","low","NA",null,"Handout"]
[null,null,null,"Course Assessment",null," "]

{"sheet":"Status","index":1,"n_rows":362,"n_cols":5,"rows_kept":362,"cut":false,"hidden":false,"merged":[]}
[]
[]
[null,{"$f":"'ID Map'!D7","v":"TOPIC"},"Status","Risks","Completion Date"]
[null,{"$f":"'ID Map'!D8","v":0}]
[null,{"$f":"'ID Map'!D9","v":"Introduction"}]
[null,{"$f":"'ID Map'!D10","v":"Introduction"}]
[null,{"$f":"'ID Map'!D11","v":"Course Introduction/Course Flow"}]
[null,{"$f":"'ID Map'!D12","v":"Course Objectives"}]
[null,{"$f":"'ID Map'!D13","v":"Telsra Our Way Cultural Priorities"}]
[null,{"$f":"'ID Map'!D14","v":"Tips for getting the most out of this course"}]
[null,{"$f":"'ID Map'!D15","v":"Activity - Icebreaker  "}]
[null,{"$f":"'ID Map'!D16","v":"Timetable"}]
[null,{"$f":"'ID Map'!D17","v":"Prerequisites/Post requisites"}]
[null,{"$f":"'ID Map'!D18","v":"Module One - Title"}]
[null,{"$f":"'ID Map'!D19","v":"Module Introduction"}]
[null,{"$f":"'ID Map'!D20","v":"Module Introduction"}]
[null,{"$f":"'ID Map'!D21","v":"Module One Objectives "}]
[null,{"$f":"'ID Map'!D22","v":"Section - Header Title"}]
[null,{"$f":"'ID Map'!D23","v":" "}]
[null,{"$f":"'ID Map'!D24","v":" "}]
[null,{"$f":"'ID Map'!D25","v":"Checkpoint - Title"}]
[null,{"$f":"'ID Map'!D26","v":"Activity - Title"}]
[null,{"$f":"'ID Map'!D27","v":"Section - Header Title"}]
[null,{"$f":"'ID Map'!D28","v":" "}]
[null,{"$f":"'ID Map'!D29","v":" "}]
[null,{"$f":"'ID Map'!D30","v":"Checkpoint - Title"}]
[null,{"$f":"'ID Map'!D31","v":"Activity - Title"}]
[null,{"$f":"'ID Map'!D32","v":"Module Summary"}]
[null,{"$f":"'ID Map'!D33","v":"Module One Summary"}]
[null,{"$f":"'ID Map'!D34","v":"Module Two - Title"}]
[null,{"$f":"'ID Map'!D35","v":"Module Introduction"}]
[null,{"$f":"'ID Map'!D36","v":"Module Introduction"}]
[null,{"$f":"'ID Map'!D37","v":"Module Two Objectives"}]
[null,{"$f":"'ID Map'!D38","v":"Section - Header Title"}]
[null,{"$f":"'ID Map'!D39","v":0}]
[null,{"$f":"'ID Map'!D40","v":0}]
[null,{"$f":"'ID Map'!D41","v":0}]
[null,{"$f":"'ID Map'!D42","v":"Checkpoint - Title"}]
[null,{"$f":"'ID Map'!D43","v":"Activity - Title"}]
[null,{"$f":"'ID Map'!D44","v":"Section - Header Title"}]
[null,{"$f":"'ID Map'!D45","v":0}]
[null,{"$f":"'ID Map'!D46","v":0}]
[null,{"$f":"'ID Map'!D47","v":0}]
[null,{"$f":"'ID Map'!D48","v":"Checkpoint - Title"}]
[null,{"$f":"'ID Map'!D49","v":"Activity - Title"}]
[null,{"$f":"'ID Map'!D50","v":"Module Summary"}]
[null,{"$f":"'ID Map'!D51","v":"Module Two Summary"}]
[null,{"$f":"'ID Map'!D52","v":"Module Three - Title"}]
[null,{"$f":"'ID Map'!D53","v":"Module Introduction"}]
[null,{"$f":"'ID Map'!D54","v":"Module Introduction"}]
[null,{"$f":"'ID Map'!D55","v":"Module Three Objectives"}]
[null,{"$f":"'ID Map'!D56","v":"Section - Header Title"}]
[null,{"$f":"'ID Map'!D57","v":0}]
[null,{"$f":"'ID Map'!D58","v":0}]
[null,{"$f":"'ID Map'!D59","v":0}]
[null,{"$f":"'ID Map'!D60","v":"Checkpoint - Title"}]
[null,{"$f":"'ID Map'!D61","v":"Activity - Title"}]
[null,{"$f":"'ID Map'!D62","v":"Section - Header Title"}]
[null,{"$f":"'ID Map'!D63","v":0}]
[null,{"$f":"'ID Map'!D64","v":0}]
[null,{"$f":"'ID Map'!D65","v":0}]
[null,{"$f":"'ID Map'!D66","v":"Checkpoint - Title"}]
[null,{"$f":"'ID Map'!D67","v":"Activity - Title"}]
[null,{"$f":"'ID Map'!D68","v":"Module Summary"}]
[null,{"$f":"'ID Map'!D69","v":"Module Three Summary"}]
[null,{"$f":"'ID Map'!D70","v":"Module Four- Title"}]
[null,{"$f":"'ID Map'!D71","v":"Module Introduction"}]
[null,{"$f":"'ID Map'!D72","v":"Module Introduction"}]
[null,{"$f":"'ID Map'!D73","v":"Module Four Objectives"}]
[null,{"$f":"'ID Map'!D74","v":"Section - Header Title"}]
[null,{"$f":"'ID Map'!D75","v":0}]
[null,{"$f":"'ID Map'!D76","v":0}]
[null,{"$f":"'ID Map'!D77","v":0}]
[null,{"$f":"'ID Map'!D78","v":"Checkpoint - Title"}]
[null,{"$f":"'ID Map'!D79","v":"Activity - Title"}]
[null,{"$f":"'ID Map'!D80","v":"Section - Header Title"}]
[null,{"$f":"'ID Map'!D81","v":0}]
[null,{"$f":"'ID Map'!D82","v":0}]
[null,{"$f":"'ID Map'!D83","v":0}]
[null,{"$f":"'ID Map'!D84","v":"Checkpoint - Title"}]
[null,{"$f":"'ID Map'!D85","v":"Activity - Title"}]
[null,{"$f":"'ID Map'!D86","v":"Module Summary"}]
[null,{"$f":"'ID Map'!D87","v":"Module Four Summary"}]
[null,{"$f":"'ID Map'!D88","v":"Conclusion"}]
[null,{"$f":"'ID Map'!D89","v":"Course Summary"}]
[null,{"$f":"'ID Map'!D90","v":"Course feedback form"}]
[null,{"$f":"'ID Map'!D91","v":"Course Assessment"}]
[null,{"$f":"'ID Map'!D92","v":0}]
[null,{"$f":"'ID Map'!D93","v":0}]
[null,{"$f":"'ID Map'!D94","v":0}]
[null,{"$f":"'ID Map'!D95","v":0}]
[null,{"$f":"'ID Map'!D96","v":0}]
[null,{"$f":"'ID Map'!D97","v":0}]
[null,{"$f":"'ID Map'!D98","v":0}]
[null,{"$f":"'ID Map'!D99","v":0}]
[null,{"$f":"'ID Map'!D100","v":0}]
[null,{"$f":"'ID Map'!D101","v":0}]
[null,{"$f":"'ID Map'!D102","v":0}]
[null,{"$f":"'ID Map'!D103","v":0}]
[null,{"$f":"'ID Map'!D104","v":0}]
[null,{"$f":"'ID Map'!D105","v":0}]
[null,{"$f":"'ID Map'!D106","v":0}]
[null,{"$f":"'ID Map'!D107","v":0}]
[null,{"$f":"'ID Map'!D108","v":0}]
[null,{"$f":"'ID Map'!D109","v":0}]
[null,{"$f":"'ID Map'!D110","v":0}]
[null,{"$f":"'ID Map'!D111","v":0}]
[null,{"$f":"'ID Map'!D112","v":0}]
[null,{"$f":"'ID Map'!D113","v":0}]
[null,{"$f":"'ID Map'!D114","v":0}]
[null,{"$f":"'ID Map'!D115","v":0}]
[null,{"$f":"'ID Map'!D116","v":0}]
[null,{"$f":"'ID Map'!D117","v":0}]
[null,{"$f":"'ID Map'!D118","v":0}]
[null,{"$f":"'ID Map'!D119","v":0}]
[null,{"$f":"'ID Map'!D120","v":0}]
[null,{"$f":"'ID Map'!D121","v":0}]
[null,{"$f":"'ID Map'!D122","v":0}]
[null,{"$f":"'ID Map'!D123","v":0}]
[null,{"$f":"'ID Map'!D124","v":0}]
[null,{"$f":"'ID Map'!D125","v":0}]
[null,{"$f":"'ID Map'!D126","v":0}]
[null,{"$f":"'ID Map'!D127","v":0}]
[null,{"$f":"'ID Map'!D128","v":0}]
[null,{"$f":"'ID Map'!D129","v":0}]
[null,{"$f":"'ID Map'!D130","v":0}]
[null,{"$f":"'ID Map'!D131","v":0}]
[null,{"$f":"'ID Map'!D132","v":0}]
[null,{"$f":"'ID Map'!D133","v":0}]
[null,{"$f":"'ID Map'!D134","v":0}]
[null,{"$f":"'ID Map'!D135","v":0}]
[null,{"$f":"'ID Map'!D136","v":0}]
[null,{"$f":"'ID Map'!D137","v":0}]
[null,{"$f":"'ID Map'!D138","v":0}]
[null,{"$f":"'ID Map'!D139","v":0}]
[null,{"$f":"'ID Map'!D140","v":0}]
[null,{"$f":"'ID Map'!D141","v":0}]
[null,{"$f":"'ID Map'!D142","v":0}]
[null,{"$f":"'ID Map'!D143","v":0}]
[null,{"$f":"'ID Map'!D144","v":0}]
[null,{"$f":"'ID Map'!D145","v":0}]
[null,{"$f":"'ID Map'!D146","v":0}]
[null,{"$f":"'ID Map'!D147","v":0}]
[null,{"$f":"'ID Map'!D148","v":0}]
[null,{"$f":"'ID Map'!D149","v":0}]
[null,{"$f":"'ID Map'!D150","v":0}]
[null,{"$f":"'ID Map'!D151","v":0}]
[null,{"$f":"'ID Map'!D152","v":0}]
[null,{"$f":"'ID Map'!D153","v":0}]
[null,{"$f":"'ID Map'!D154","v":0}]
[null,{"$f":"'ID Map'!D155","v":0}]
[null,{"$f":"'ID Map'!D156","v":0}]
[null,{"$f":"'ID Map'!D157","v":0}]
[null,{"$f":"'ID Map'!D158","v":0}]
[null,{"$f":"'ID Map'!D159","v":0}]
[null,{"$f":"'ID Map'!D160","v":0}]
[null,{"$f":"'ID Map'!D161","v":0}]
[null,{"$f":"'ID Map'!D162","v":0}]
[null,{"$f":"'ID Map'!D163","v":0}]
[null,{"$f":"'ID Map'!D164","v":0}]
[null,{"$f":"'ID Map'!D165","v":0}]
[null,{"$f":"'ID Map'!D166","v":0}]
[null,{"$f":"'ID Map'!D167","v":0}]
[null,{"$f":"'ID Map'!D168","v":0}]
[null,{"$f":"'ID Map'!D169","v":0}]
[null,{"$f":"'ID Map'!D170","v":0}]
[null,{"$f":"'ID Map'!D171","v":0}]
[null,{"$f":"'ID Map'!D172","v":0}]
[null,{"$f":"'ID Map'!D173","v":0}]
[null,{"$f":"'ID Map'!D174","v":0}]
[null,{"$f":"'ID Map'!D175","v":0}]
[null,{"$f":"'ID Map'!D176","v":0}]
[null,{"$f":"'ID Map'!D177","v":0}]
[null,{"$f":"'ID Map'!D178","v":0}]
[null,{"$f":"'ID Map'!D179","v":0}]
[null,{"$f":"'ID Map'!D180","v":0}]
[null,{"$f":"'ID Map'!D181","v":0}]
[null,{"$f":"'ID Map'!D182","v":0}]
[null,{"$f":"'ID Map'!D183","v":0}]
[null,{"$f":"'ID Map'!D184","v":0}]
[null,{"$f":"'ID Map'!D185","v":0}]
[null,{"$f":"'ID Map'!D186","v":0}]
[null,{"$f":"'ID Map'!D187","v":0}]
[null,{"$f":"'ID Map'!D188","v":0}]
[null,{"$f":"'ID Map'!D189","v":0}]
[null,{"$f":"'ID Map'!D190","v":0}]
[null,{"$f":"'ID Map'!D191","v":0}]
[null,{"$f":"'ID Map'!D192","v":0}]
[null,{"$f":"'ID Map'!D193","v":0}]
[null,{"$f":"'ID Map'!D194","v":0}]
[null,{"$f":"'ID Map'!D195","v":0}]
[null,{"$f":"'ID Map'!D196","v":0}]
[null,{"$f":"'ID Map'!D197","v":0}]
[null,{"$f":"'ID Map'!D198","v":0}]
[null,{"$f":"'ID Map'!D199","v":0}]
[null,{"$f":"'ID Map'!D200","v":0}]
[null,{"$f":"'ID Map'!D201","v":0}]
[null,{"$f":"'ID Map'!D202","v":0}]
[null,{"$f":"'ID Map'!D203","v":0}]
[null,{"$f":"'ID Map'!D204","v":0}]
[null,{"$f":"'ID Map'!D205","v":0}]
[null,{"$f":"'ID Map'!D206","v":0}]
[null,{"$f":"'ID Map'!D207","v":0}]
[null,{"$f":"'ID Map'!D208","v":0}]
[null,{"$f":"'ID Map'!D209","v":0}]
[null,{"$f":"'ID Map'!D210","v":0}]
[null,{"$f":"'ID Map'!D211","v":0}]
[null,{"$f":"'ID Map'!D212","v":0}]
[null,{"$f":"'ID Map'!D213","v":0}]
[null,{"$f":"'ID Map'!D214","v":0}]
[null,{"$f":"'ID Map'!D215","v":0}]
[null,{"$f":"'ID Map'!D216","v":0}]
[null,{"$f":"'ID Map'!D217","v":0}]
[null,{"$f":"'ID Map'!D218","v":0}]
[null,{"$f":"'ID Map'!D219","v":0}]
[null,{"$f":"'ID Map'!D220","v":0}]
[null,{"$f":"'ID Map'!D221","v":0}]
[null,{"$f":"'ID Map'!D222","v":0}]
[null,{"$f":"'ID Map'!D223","v":0}]
[null,{"$f":"'ID Map'!D224","v":0}]
[null,{"$f":"'ID Map'!D225","v":0}]
[null,{"$f":"'ID Map'!D226","v":0}]
[null,{"$f":"'ID Map'!D227","v":0}]
[null,{"$f":"'ID Map'!D228","v":0}]
[null,{"$f":"'ID Map'!D229","v":0}]
[null,{"$f":"'ID Map'!D230","v":0}]
[null,{"$f":"'ID Map'!D231","v":0}]
[null,{"$f":"'ID Map'!D232","v":0}]
[null,{"$f":"'ID Map'!D233","v":0}]
[null,{"$f":"'ID Map'!D234","v":0}]
[null,{"$f":"'ID Map'!D235","v":0}]
[null,{"$f":"'ID Map'!D236","v":0}]
[null,{"$f":"'ID Map'!D237","v":0}]
[null,{"$f":"'ID Map'!D238","v":0}]
[null,{"$f":"'ID Map'!D239","v":0}]
[null,{"$f":"'ID Map'!D240","v":0}]
[null,{"$f":"'ID Map'!D241","v":0}]
[null,{"$f":"'ID Map'!D242","v":0}]
[null,{"$f":"'ID Map'!D243","v":0}]
[null,{"$f":"'ID Map'!D244","v":0}]
[null,{"$f":"'ID Map'!D245","v":0}]
[null,{"$f":"'ID Map'!D246","v":0}]
[null,{"$f":"'ID Map'!D247","v":0}]
[null,{"$f":"'ID Map'!D248","v":0}]
[null,{"$f":"'ID Map'!D249","v":0}]
[null,{"$f":"'ID Map'!D250","v":0}]
[null,{"$f":"'ID Map'!D251","v":0}]
[null,{"$f":"'ID Map'!D252","v":0}]
[null,{"$f":"'ID Map'!D253","v":0}]
[null,{"$f":"'ID Map'!D254","v":0}]
[null,{"$f":"'ID Map'!D255","v":0}]
[null,{"$f":"'ID Map'!D256","v":0}]
[null,{"$f":"'ID Map'!D257","v":0}]
[null,{"$f":"'ID Map'!D258","v":0}]
[null,{"$f":"'ID Map'!D259","v":0}]
[null,{"$f":"'ID Map'!D260","v":0}]
[null,{"$f":"'ID Map'!D261","v":0}]
[null,{"$f":"'ID Map'!D262","v":0}]
[null,{"$f":"'ID Map'!D263","v":0}]
[null,{"$f":"'ID Map'!D264","v":0}]
[null,{"$f":"'ID Map'!D265","v":0}]
[null,{"$f":"'ID Map'!D266","v":0}]
[null,{"$f":"'ID Map'!D267","v":0}]
[null,{"$f":"'ID Map'!D268","v":0}]
[null,{"$f":"'ID Map'!D269","v":0}]
[null,{"$f":"'ID Map'!D270","v":0}]
[null,{"$f":"'ID Map'!D271","v":0}]
[null,{"$f":"'ID Map'!D272","v":0}]
[null,{"$f":"'ID Map'!D273","v":0}]
[null,{"$f":"'ID Map'!D274","v":0}]
[null,{"$f":"'ID Map'!D275","v":0}]
[null,{"$f":"'ID Map'!D276","v":0}]
[null,{"$f":"'ID Map'!D277","v":0}]
[null,{"$f":"'ID Map'!D278","v":0}]
[null,{"$f":"'ID Map'!D279","v":0}]
[null,{"$f":"'ID Map'!D280","v":0}]
[null,{"$f":"'ID Map'!D281","v":0}]
[null,{"$f":"'ID Map'!D282","v":0}]
[null,{"$f":"'ID Map'!D283","v":0}]
[null,{"$f":"'ID Map'!D284","v":0}]
[null,{"$f":"'ID Map'!D285","v":0}]
[null,{"$f":"'ID Map'!D286","v":0}]
[null,{"$f":"'ID Map'!D287","v":0}]
[null,{"$f":"'ID Map'!D288","v":0}]
[null,{"$f":"'ID Map'!D289","v":0}]
[null,{"$f":"'ID Map'!D290","v":0}]
[null,{"$f":"'ID Map'!D291","v":0}]
[null,{"$f":"'ID Map'!D292","v":0}]
[null,{"$f":"'ID Map'!D293","v":0}]
[null,{"$f":"'ID Map'!D294","v":0}]
[null,{"$f":"'ID Map'!D295","v":0}]
[null,{"$f":"'ID Map'!D296","v":0}]
[null,{"$f":"'ID Map'!D297","v":0}]
[null,{"$f":"'ID Map'!D298","v":0}]
[null,{"$f":"'ID Map'!D299","v":0}]
[null,{"$f":"'ID Map'!D300","v":0}]
[null,{"$f":"'ID Map'!D301","v":0}]
[null,{"$f":"'ID Map'!D302","v":0}]
[null,{"$f":"'ID Map'!D303","v":0}]
[null,{"$f":"'ID Map'!D304","v":0}]
[null,{"$f":"'ID Map'!D305","v":0}]
[null,{"$f":"'ID Map'!D306","v":0}]
[null,{"$f":"'ID Map'!D307","v":0}]
[null,{"$f":"'ID Map'!D308","v":0}]
[null,{"$f":"'ID Map'!D309","v":0}]
[null,{"$f":"'ID Map'!D310","v":0}]
[null,{"$f":"'ID Map'!D311","v":0}]
[null,{"$f":"'ID Map'!D312","v":0}]
[null,{"$f":"'ID Map'!D313","v":0}]
[null,{"$f":"'ID Map'!D314","v":0}]
[null,{"$f":"'ID Map'!D315","v":0}]
[null,{"$f":"'ID Map'!D316","v":0}]
[null,{"$f":"'ID Map'!D317","v":0}]
[null,{"$f":"'ID Map'!D318","v":0}]
[null,{"$f":"'ID Map'!D319","v":0}]
[null,{"$f":"'ID Map'!D320","v":0}]
[null,{"$f":"'ID Map'!D321","v":0}]
[null,{"$f":"'ID Map'!D322","v":0}]
[null,{"$f":"'ID Map'!D323","v":0}]
[null,{"$f":"'ID Map'!D324","v":0}]
[null,{"$f":"'ID Map'!D325","v":0}]
[null,{"$f":"'ID Map'!D326","v":0}]
[null,{"$f":"'ID Map'!D327","v":0}]
[null,{"$f":"'ID Map'!D328","v":0}]
[null,{"$f":"'ID Map'!D329","v":0}]
[null,{"$f":"'ID Map'!D330","v":0}]
[null,{"$f":"'ID Map'!D331","v":0}]
[null,{"$f":"'ID Map'!D332","v":0}]
[null,{"$f":"'ID Map'!D333","v":0}]
[null,{"$f":"'ID Map'!D334","v":0}]
[null,{"$f":"'ID Map'!D335","v":0}]
[null,{"$f":"'ID Map'!D336","v":0}]
[null,{"$f":"'ID Map'!D337","v":0}]
[null,{"$f":"'ID Map'!D338","v":0}]
[null,{"$f":"'ID Map'!D339","v":0}]
[null,{"$f":"'ID Map'!D340","v":0}]
[null,{"$f":"'ID Map'!D341","v":0}]
[null,{"$f":"'ID Map'!D342","v":0}]
[null,{"$f":"'ID Map'!D343","v":0}]
[null,{"$f":"'ID Map'!D344","v":0}]
[null,{"$f":"'ID Map'!D345","v":0}]
[null,{"$f":"'ID Map'!D346","v":0}]
[null,{"$f":"'ID Map'!D347","v":0}]
[null,{"$f":"'ID Map'!D348","v":0}]
[null,{"$f":"'ID Map'!D349","v":0}]
[null,{"$f":"'ID Map'!D350","v":0}]
[null,{"$f":"'ID Map'!D351","v":0}]
[null,{"$f":"'ID Map'!D352","v":0}]
[null,{"$f":"'ID Map'!D353","v":0}]
[null,{"$f":"'ID Map'!D354","v":0}]
[null,{"$f":"'ID Map'!D355","v":0}]
[null,{"$f":"'ID Map'!D356","v":0}]
[null,{"$f":"'ID Map'!D357","v":0}]
[null,{"$f":"'ID Map'!D358","v":0}]
[null,{"$f":"'ID Map'!D359","v":0}]
[null,{"$f":"'ID Map'!D360","v":0}]
[null,{"$f":"'ID Map'!D361","v":0}]
[null,{"$f":"'ID Map'!D362","v":0}]
[null,{"$f":"'ID Map'!D363","v":0}]
[null,{"$f":"'ID Map'!D364","v":0}]
[null,{"$f":"'ID Map'!D365","v":0}]
[null,{"$f":"'ID Map'!D366","v":0}]

{"sheet":"Assessment","index":2,"n_rows":55,"n_cols":11,"rows_kept":55,"cut":false,"hidden":false,"merged":[[22,6,22,11],[53,6,53,7],[53,8,53,9],[53,10,53,11],[54,6,54,7],[54,8,54,9],[54,10,54,11],[51,6,51,7],[51,8,51,9],[51,10,51,11],[52,6,52,7],[52,8,52,9],[52,10,52,11],[49,6,49,7],[49,8,49,9],[49,10,49,11],[50,6,50,7],[50,8,50,9],[50,10,50,11],[47,6,47,7],[47,8,47,9],[47,10,47,11],[48,6,48,7],[48,8,48,9],[48,10,48,11],[45,6,45,7],[45,8,45,9],[45,10,45,11],[46,6,46,7],[46,8,46,9],[46,10,46,11],[43,6,43,7],[43,8,43,9],[43,10,43,11],[44,6,44,7],[44,8,44,9],[44,10,44,11],[41,6,41,7],[41,8,41,9],[41,10,41,11],[42,6,42,7],[42,8,42,9],[42,10,42,11],[39,6,39,7],[39,8,39,9],[39,10,39,11],[40,6,40,7],[40,8,40,9],[40,10,40,11],[37,6,37,7],[37,8,37,9],[37,10,37,11],[38,6,38,7],[38,8,38,9],[38,10,38,11],[35,6,35,7],[35,8,35,9],[35,10,35,11],[36,6,36,7],[36,8,36,9],[36,10,36,11],[33,6,33,7],[33,8,33,9],[33,10,33,11],[34,6,34,7],[34,8,34,9],[34,10,34,11],[30,8,30,9],[30,10,30,11],[31,6,31,7],[31,8,31,9],[31,10,31,11],[32,6,32,7],[32,8,32,9],[32,10,32,11],[24,10,24,11],[25,10,25,11],[26,10,26,11],[27,10,27,11],[28,10,28,11],[29,6,29,7],[29,8,29,9],[29,10,29,11],[53,3,53,5],[54,3,54,5],[24,8,24,9],[25,8,25,9],[26,8,26,9],[27,8,27,9],[28,8,28,9],[30,6,30,7],[47,3,47,5],[48,3,48,5],[49,3,49,5],[50,3,50,5],[51,3,51,5],[52,3,52,5],[41,3,41,5],[42,3,42,5],[43,3,43,5],[44,3,44,5],[45,3,45,5],[46,3,46,5],[35,3,35,5],[36,3,36,5],[37,3,37,5],[38,3,38,5],[39,3,39,5],[40,3,40,5],[29,3,29,5],[30,3,30,5],[31,3,31,5],[32,3,32,5],[33,3,33,5],[34,3,34,5],[25,3,25,5],[26,3,26,5],[27,3,27,5],[28,3,28,5],[28,6,28,7],[25,6,25,7],[26,6,26,7],[27,6,27,7],[0,0,0,6],[1,0,1,6],[3,0,3,9],[23,1,23,5],[23,6,23,7],[23,8,23,11],[5,1,5,8],[7,1,7,6],[8,1,8,6],[9,1,9,6],[10,1,10,6],[11,1,11,6],[12,1,12,6],[24,6,24,7],[13,1,13,6],[14,1,14,6],[15,1,15,6],[16,1,16,6],[17,1,17,6],[24,3,24,5]]}
[{"$f":"'ID Map'!A1:N1","v":"Instructional Design Map:  "},null,null,null,null,null,null,null,null,"Count",{"$f":"COUNTIF(G26:H55,\"Multiple Choice (one response)\")","v":0}]
["Assessment",null,null,null,null,null,null,null,null," "," "]
[]
["Part A: Determine the number of questions required to align with each course objective, Complete Course Objectives Summary, Module name and Percentage Value columns."]
[]
[null,"Expected number of questions required for the assessment",null,null,null,null,null,null,null,0]
[null," "]
["Objective #","Course Objectives Summary",null,null,null,null,null,"Module","Percentage Value","Questions"]
[1,null,null,null,null,null,null,null,null,{"$f":"I9*$J$6","v":0}]
[2,null,null,null,null,null,null,null,null,0]
[3,null,null,null,null,null,null,null,null,0]
[4,null,null,null,null,null,null,null,null,0]
[5,null,null,null,null,null,null,null,null,0]
[6,null,null,null,null,null,null,null,null,0]
[7,null,null,null,null,null,null,null,null,0]
[8,null,null,null,null,null,null,null,null,0]
[9,null,null,null,null,null,null,null,null,0]
[10,null,null,null,null,null,null,null,null,0]
[]
["Part B: Determine the question topic (ID map Topic) that maps to the course objective"]
["Part C: Enter the Question type from the pull down list. The assessment must include a minimum of 50% \"Multiple Choice (one response)' answers"]
["Part D: Enter the page reference and answer reference from your completed guide (optional)"]
[null,null,null,null,null,null,{"$f":"'Raw Data-Course Timing'!K8","v":""}]
[null,"Part B",null,null,null,null,"Part C",null,"Part D"]
["Question","Objective #","Module","Question Topic",null,null,"Question Type",null,"Question Reference",null,"Answer Reference"]
[1]
[2," "]
[3," "]
[4," "]
[5," "]
[6]
[7]
[8]
[9]
[10]
[11]
[12]
[13]
[14]
[15]
[16]
[17]
[18]
[19]
[20]
[21]
[22]
[23]
[24]
[25]
[26]
[27]
[28]
[29]
[30]

{"sheet":"Course Timings","index":3,"n_rows":29,"n_cols":9,"rows_kept":29,"cut":false,"hidden":false,"merged":[[0,0,0,9],[1,0,1,4]]}
[{"$f":"'ID Map'!A1:N1","v":"Instructional Design Map:  "}]
["Course Timings"]
["Enter your course information to the Course Type and Course Time fields only"]
[null,null,null,null,null,null,"Hours","Minutes"]
["Course Type","ILT2.5",null,null,"Course Time",null,0,0]
[]
[]
["Course Split","Activity","Content",null,"Course Timing",null,"Activity","Content","Totals"]
["Expected Split",{"$f":"VLOOKUP($B$5,'Raw Data-Course Timing'!$F$6:$H$10,2)","v":0.5},{"$f":"VLOOKUP($B$5,'Raw Data-Course Timing'!$F$6:$H$10,3)","v":0.5},null,"Time Available",null,{"$f":"B9*I9","v":0},{"$f":"C9*I9","v":0},{"$f":"(G5*60)+H5","v":0}]
["Current Split",{"$f":"B29/$D$29","v":0.13157894736842105},{"$f":"C29/$D$29","v":0.86842105263157898},null,"Current Time",null,{"$f":"B29","v":10},{"$f":"C29","v":66},{"$f":"SUM(G10:H10)","v":76}]
[]
["Difference",{"$f":"B9-B10","v":0.36842105263157898},{"$f":"C9-C10","v":-0.36842105263157898},null,"Difference",null,{"$f":"G9-G10","v":-10},{"$f":"H9-H10","v":-66},{"$f":"I9-I10","v":-76}]
[]
[]
["Sum of Duration"]
["Module","Activity","Content","Total","Hours","Minutes"]
["Introduction",{"$f":"SUM(IF(ISNA('ID Map'!$I$9:$I$207)=FALSE,IF('ID Map'!$I$9:$I$207=$A17,IF(ISNA('ID Map'!$J$9:$J$207)=FALSE,IF('ID Map'!$J$9:$J$207=B$16,IF(ISNA('ID Map'!$H$9:$H$207)=FALSE,'ID Map'!$H$9:$H$207))))))","v":10},{"$f":"SUM(IF(ISNA('ID Map'!$I$9:$I$207)=FALSE,IF('ID Map'!$I$9:$I$207=$A17,IF(ISNA('ID Map'!$J$9:$J$207)=FALSE,IF('ID Map'!$J$9:$J$207=C$16,IF(ISNA('ID Map'!$H$9:$H$207)=FALSE,'ID Map'!$H$9:$H$207))))))","v":15},{"$f":"SUM(B17:C17)","v":25}]
["Module 1",{"$f":"SUM(IF(ISNA('ID Map'!$I$9:$I$207)=FALSE,IF('ID Map'!$I$9:$I$207=$A18,IF(ISNA('ID Map'!$J$9:$J$207)=FALSE,IF('ID Map'!$J$9:$J$207=B$16,IF(ISNA('ID Map'!$H$9:$H$207)=FALSE,'ID Map'!$H$9:$H$207))))))","v":0},{"$f":"SUM(IF(ISNA('ID Map'!$I$9:$I$207)=FALSE,IF('ID Map'!$I$9:$I$207=$A18,IF(ISNA('ID Map'!$J$9:$J$207)=FALSE,IF('ID Map'!$J$9:$J$207=C$16,IF(ISNA('ID Map'!$H$9:$H$207)=FALSE,'ID Map'!$H$9:$H$207))))))","v":9},{"$f":"SUM(B18:C18)","v":9}," "]
["Module 2",{"$f":"SUM(IF(ISNA('ID Map'!$I$9:$I$207)=FALSE,IF('ID Map'!$I$9:$I$207=$A19,IF(ISNA('ID Map'!$J$9:$J$207)=FALSE,IF('ID Map'!$J$9:$J$207=B$16,IF(ISNA('ID Map'!$H$9:$H$207)=FALSE,'ID Map'!$H$9:$H$207))))))","v":0},{"$f":"SUM(IF(ISNA('ID Map'!$I$9:$I$207)=FALSE,IF('ID Map'!$I$9:$I$207=$A19,IF(ISNA('ID Map'!$J$9:$J$207)=FALSE,IF('ID Map'!$J$9:$J$207=C$16,IF(ISNA('ID Map'!$H$9:$H$207)=FALSE,'ID Map'!$H$9:$H$207))))))","v":9},{"$f":"SUM(B19:C19)","v":9}]
["Module 3",{"$f":"SUM(IF(ISNA('ID Map'!$I$9:$I$207)=FALSE,IF('ID Map'!$I$9:$I$207=$A20,IF(ISNA('ID Map'!$J$9:$J$207)=FALSE,IF('ID Map'!$J$9:$J$207=B$16,IF(ISNA('ID Map'!$H$9:$H$207)=FALSE,'ID Map'!$H$9:$H$207))))))","v":0},{"$f":"SUM(IF(ISNA('ID Map'!$I$9:$I$207)=FALSE,IF('ID Map'!$I$9:$I$207=$A20,IF(ISNA('ID Map'!$J$9:$J$207)=FALSE,IF('ID Map'!$J$9:$J$207=C$16,IF(ISNA('ID Map'!$H$9:$H$207)=FALSE,'ID Map'!$H$9:$H$207))))))","v":9},{"$f":"SUM(B20:C20)","v":9}]
["Module 4",{"$f":"SUM(IF(ISNA('ID Map'!$I$9:$I$207)=FALSE,IF('ID Map'!$I$9:$I$207=$A21,IF(ISNA('ID Map'!$J$9:$J$207)=FALSE,IF('ID Map'!$J$9:$J$207=B$16,IF(ISNA('ID Map'!$H$9:$H$207)=FALSE,'ID Map'!$H$9:$H$207))))))","v":0},{"$f":"SUM(IF(ISNA('ID Map'!$I$9:$I$207)=FALSE,IF('ID Map'!$I$9:$I$207=$A21,IF(ISNA('ID Map'!$J$9:$J$207)=FALSE,IF('ID Map'!$J$9:$J$207=C$16,IF(ISNA('ID Map'!$H$9:$H$207)=FALSE,'ID Map'!$H$9:$H$207))))))","v":9},{"$f":"SUM(B21:C21)","v":9}]
["Module 5",{"$f":"SUM(IF(ISNA('ID Map'!$I$9:$I$207)=FALSE,IF('ID Map'!$I$9:$I$207=$A22,IF(ISNA('ID Map'!$J$9:$J$207)=FALSE,IF('ID Map'!$J$9:$J$207=B$16,IF(ISNA('ID Map'!$H$9:$H$207)=FALSE,'ID Map'!$H$9:$H$207))))))","v":0},{"$f":"SUM(IF(ISNA('ID Map'!$I$9:$I$207)=FALSE,IF('ID Map'!$I$9:$I$207=$A22,IF(ISNA('ID Map'!$J$9:$J$207)=FALSE,IF('ID Map'!$J$9:$J$207=C$16,IF(ISNA('ID Map'!$H$9:$H$207)=FALSE,'ID Map'!$H$9:$H$207))))))","v":0},{"$f":"SUM(B22:C22)","v":0}]
["Module 6",{"$f":"SUM(IF(ISNA('ID Map'!$I$9:$I$207)=FALSE,IF('ID Map'!$I$9:$I$207=$A23,IF(ISNA('ID Map'!$J$9:$J$207)=FALSE,IF('ID Map'!$J$9:$J$207=B$16,IF(ISNA('ID Map'!$H$9:$H$207)=FALSE,'ID Map'!$H$9:$H$207))))))","v":0},{"$f":"SUM(IF(ISNA('ID Map'!$I$9:$I$207)=FALSE,IF('ID Map'!$I$9:$I$207=$A23,IF(ISNA('ID Map'!$J$9:$J$207)=FALSE,IF('ID Map'!$J$9:$J$207=C$16,IF(ISNA('ID Map'!$H$9:$H$207)=FALSE,'ID Map'!$H$9:$H$207))))))","v":0},0]
["Module 7",{"$f":"SUM(IF(ISNA('ID Map'!$I$9:$I$207)=FALSE,IF('ID Map'!$I$9:$I$207=$A24,IF(ISNA('ID Map'!$J$9:$J$207)=FALSE,IF('ID Map'!$J$9:$J$207=B$16,IF(ISNA('ID Map'!$H$9:$H$207)=FALSE,'ID Map'!$H$9:$H$207))))))","v":0},{"$f":"SUM(IF(ISNA('ID Map'!$I$9:$I$207)=FALSE,IF('ID Map'!$I$9:$I$207=$A24,IF(ISNA('ID Map'!$J$9:$J$207)=FALSE,IF('ID Map'!$J$9:$J$207=C$16,IF(ISNA('ID Map'!$H$9:$H$207)=FALSE,'ID Map'!$H$9:$H$207))))))","v":0},0]
["Module 8",{"$f":"SUM(IF(ISNA('ID Map'!$I$9:$I$207)=FALSE,IF('ID Map'!$I$9:$I$207=$A25,IF(ISNA('ID Map'!$J$9:$J$207)=FALSE,IF('ID Map'!$J$9:$J$207=B$16,IF(ISNA('ID Map'!$H$9:$H$207)=FALSE,'ID Map'!$H$9:$H$207))))))","v":0},{"$f":"SUM(IF(ISNA('ID Map'!$I$9:$I$207)=FALSE,IF('ID Map'!$I$9:$I$207=$A25,IF(ISNA('ID Map'!$J$9:$J$207)=FALSE,IF('ID Map'!$J$9:$J$207=C$16,IF(ISNA('ID Map'!$H$9:$H$207)=FALSE,'ID Map'!$H$9:$H$207))))))","v":0},0]
["Module 9",{"$f":"SUM(IF(ISNA('ID Map'!$I$9:$I$207)=FALSE,IF('ID Map'!$I$9:$I$207=$A26,IF(ISNA('ID Map'!$J$9:$J$207)=FALSE,IF('ID Map'!$J$9:$J$207=B$16,IF(ISNA('ID Map'!$H$9:$H$207)=FALSE,'ID Map'!$H$9:$H$207))))))","v":0},{"$f":"SUM(IF(ISNA('ID Map'!$I$9:$I$207)=FALSE,IF('ID Map'!$I$9:$I$207=$A26,IF(ISNA('ID Map'!$J$9:$J$207)=FALSE,IF('ID Map'!$J$9:$J$207=C$16,IF(ISNA('ID Map'!$H$9:$H$207)=FALSE,'ID Map'!$H$9:$H$207))))))","v":0},0]
["Module 10",{"$f":"SUM(IF(ISNA('ID Map'!$I$9:$I$207)=FALSE,IF('ID Map'!$I$9:$I$207=$A27,IF(ISNA('ID Map'!$J$9:$J$207)=FALSE,IF('ID Map'!$J$9:$J$207=B$16,IF(ISNA('ID Map'!$H$9:$H$207)=FALSE,'ID Map'!$H$9:$H$207))))))","v":0},{"$f":"SUM(IF(ISNA('ID Map'!$I$9:$I$207)=FALSE,IF('ID Map'!$I$9:$I$207=$A27,IF(ISNA('ID Map'!$J$9:$J$207)=FALSE,IF('ID Map'!$J$9:$J$207=C$16,IF(ISNA('ID Map'!$H$9:$H$207)=FALSE,'ID Map'!$H$9:$H$207))))))","v":0},0]
["Conclusion",{"$f":"SUM(IF(ISNA('ID Map'!$I$9:$I$207)=FALSE,IF('ID Map'!$I$9:$I$207=$A28,IF(ISNA('ID Map'!$J$9:$J$207)=FALSE,IF('ID Map'!$J$9:$J$207=B$16,IF(ISNA('ID Map'!$H$9:$H$207)=FALSE,'ID Map'!$H$9:$H$207))))))","v":0},{"$f":"SUM(IF(ISNA('ID Map'!$I$9:$I$207)=FALSE,IF('ID Map'!$I$9:$I$207=$A28,IF(ISNA('ID Map'!$J$9:$J$207)=FALSE,IF('ID Map'!$J$9:$J$207=C$16,IF(ISNA('ID Map'!$H$9:$H$207)=FALSE,'ID Map'!$H$9:$H$207))))))","v":15},{"$f":"SUM(B28:C28)","v":15}]
["Grand Total",{"$f":"SUM(B17:B28)","v":10},{"$f":"SUM(C17:C28)","v":66},{"$f":"SUM(D17:D28)","v":76}]

{"sheet":"Glossary","index":4,"n_rows":10,"n_cols":3,"rows_kept":10,"cut":false,"hidden":false,"merged":[[0,0,0,11],[2,0,2,2]]}
[{"$f":"'ID Map'!A1:F1","v":"Instructional Design Map:  "}]
["Glossary"]
["This sheet may be used to collate information regarding common terms or the formatting for words or acronyms used in the course."]
["Eg1 :MDU","Multi Dwelling Unit","Description of appartment blocks or residence where multiple taps may be located such as retirement villages"]
["Eg 2: Lead-in",null,"to be written as capital L and hyphen"]
[]
["Acronym or Correct formatting","Term","Meaning or Description"]
[]
[]
[null,null," "]

{"sheet":"Source Map","index":5,"n_rows":5,"n_cols":9,"rows_kept":5,"cut":false,"hidden":false,"merged":[[0,0,0,7],[3,3,3,8],[3,0,4,0],[3,1,4,1],[3,2,4,2]]}
[{"$f":"'ID Map'!A1:N1","v":"Instructional Design Map:  "}]
["Source Map"]
[null,null,null,"Indicate if a page reference has been mapped to the ID map by changing the background to green"]
["Document Title","Document Location","Provided by","Page References and Topic Titles"]
[null,null,null,"Topic Title","Page #","Topic Title","Page #","Topic Title","Page #"]

{"sheet":"SME Questions","index":6,"n_rows":4,"n_cols":3,"rows_kept":4,"cut":false,"hidden":true,"merged":[[0,0,0,10]]}
[{"$f":"'ID Map'!A1:F1","v":"Instructional Design Map:  "}]
["Questions"]
[]
["SME Question","Topic/Module","Action/Outcome"]

{"sheet":"Raw Data-Course Timing","index":7,"n_rows":251,"n_cols":12,"rows_kept":251,"cut":false,"hidden":true,"merged":[[4,5,4,7],[4,1,4,3]]}
[null,"Remove or Hide this sheet before presenting to client."]
[null,"Do not alter/amend these formulas"]
[null,"All fields must have an entry for the table to calculate correctly, alterations are to be made only to the ID map)"]
[]
[null,"ID MAP Page",null,null,null,"Couse Timings Page",null,null,null,"Assessment"]
[null,{"$f":"'ID Map'!H7","v":"DURATION"},{"$f":"'ID Map'!I7","v":"MODULE"},{"$f":"'ID Map'!J7","v":"TYPE"},null,"Course Type","Activity%","Content%",null,"Total Qs",0.5,"Count "]
[null,{"$f":"'ID Map'!H10","v":3},{"$f":"'ID Map'!I10","v":"Introduction"},{"$f":"'ID Map'!J10","v":"Content"},null,"ILT2",0.3,0.7,null,{"$f":"Assessment!J6","v":0},{"$f":"J7*K6","v":0},{"$f":"COUNTIF(Assessment!G26:H55,\"Multiple Choice (one response)\")","v":0}]
[null,{"$f":"'ID Map'!H11","v":3},{"$f":"'ID Map'!I11","v":"Introduction"},{"$f":"'ID Map'!J11","v":"Content"},null,"ILT2.5",0.5,0.5,null,"Result",{"$f":"IF(L7<K7,\"More Multiple Choice (one response) questions are required to achieve the 50% ratio per Part C\",\"\")","v":""}]
[null,{"$f":"'ID Map'!H12","v":3},{"$f":"'ID Map'!I12","v":"Introduction"},{"$f":"'ID Map'!J12","v":"Content"},null,"ILT3",0.8,0.2,null," "," "]
[null,{"$f":"'ID Map'!H15","v":10},{"$f":"'ID Map'!I15","v":"Introduction"},{"$f":"'ID Map'!J15","v":"Activity"},null,"WBT","NA","NA",null," "]
[null,{"$f":"'ID Map'!H16","v":1},{"$f":"'ID Map'!I16","v":"Introduction"},{"$f":"'ID Map'!J16","v":"Content"},null,null," "]
[null,{"$f":"'ID Map'!H17","v":1},{"$f":"'ID Map'!I17","v":"Introduction"},{"$f":"'ID Map'!J17","v":"Content"}]
[null,{"$f":"'ID Map'!H18","v":0},{"$f":"'ID Map'!I18","v":0},{"$f":"'ID Map'!J18","v":0}]
[null,{"$f":"'ID Map'!H19","v":0},{"$f":"'ID Map'!I19","v":0},{"$f":"'ID Map'!J19","v":0}]
[null,{"$f":"'ID Map'!H20","v":3},{"$f":"'ID Map'!I20","v":"Module 1"},{"$f":"'ID Map'!J20","v":"Content"}]
[null,{"$f":"'ID Map'!H21","v":3},{"$f":"'ID Map'!I21","v":"Module 1"},{"$f":"'ID Map'!J21","v":"Content"}]
[null,{"$f":"'ID Map'!H22","v":0},{"$f":"'ID Map'!I22","v":0},{"$f":"'ID Map'!J22","v":0}]
[null,{"$f":"'ID Map'!H23","v":0},{"$f":"'ID Map'!I23","v":"Module 1"},{"$f":"'ID Map'!J23","v":"Content"}]
[null,{"$f":"'ID Map'!H24","v":0},{"$f":"'ID Map'!I24","v":"Module 1"},{"$f":"'ID Map'!J24","v":"Content"}]
[null,{"$f":"'ID Map'!H25","v":0},{"$f":"'ID Map'!I25","v":"Module 1"},{"$f":"'ID Map'!J25","v":"Activity"}]
[null,{"$f":"'ID Map'!H26","v":0},{"$f":"'ID Map'!I26","v":"Module 1"},{"$f":"'ID Map'!J26","v":"Activity"}]
[null,{"$f":"'ID Map'!H27","v":0},{"$f":"'ID Map'!I27","v":0},{"$f":"'ID Map'!J27","v":0}]
[null,{"$f":"'ID Map'!H28","v":0},{"$f":"'ID Map'!I28","v":"Module 1"},{"$f":"'ID Map'!J28","v":"Content"}]
[null,{"$f":"'ID Map'!H29","v":0},{"$f":"'ID Map'!I29","v":"Module 1"},{"$f":"'ID Map'!J29","v":"Content"}]
[null,{"$f":"'ID Map'!H30","v":0},{"$f":"'ID Map'!I30","v":"Module 1"},{"$f":"'ID Map'!J30","v":"Activity"}]
[null,{"$f":"'ID Map'!H31","v":0},{"$f":"'ID Map'!I31","v":"Module 1"},{"$f":"'ID Map'!J31","v":"Activity"}]
[null,{"$f":"'ID Map'!H32","v":0},{"$f":"'ID Map'!I32","v":0},{"$f":"'ID Map'!J32","v":0}]
[null,{"$f":"'ID Map'!H33","v":3},{"$f":"'ID Map'!I33","v":"Module 1"},{"$f":"'ID Map'!J33","v":"Content"}]
[null,{"$f":"'ID Map'!H34","v":0},{"$f":"'ID Map'!I34","v":0},{"$f":"'ID Map'!J34","v":0}]
[null,{"$f":"'ID Map'!H35","v":0},{"$f":"'ID Map'!I35","v":0},{"$f":"'ID Map'!J35","v":0}]
[null,{"$f":"'ID Map'!H36","v":3},{"$f":"'ID Map'!I36","v":"Module 2"},{"$f":"'ID Map'!J36","v":"Content"}]
[null,{"$f":"'ID Map'!H37","v":3},{"$f":"'ID Map'!I37","v":"Module 2"},{"$f":"'ID Map'!J37","v":"Content"}]
[null,{"$f":"'ID Map'!H38","v":0},{"$f":"'ID Map'!I38","v":0},{"$f":"'ID Map'!J38","v":0}]
[null,{"$f":"'ID Map'!H39","v":0},{"$f":"'ID Map'!I39","v":"Module 2"},{"$f":"'ID Map'!J39","v":"Content"}]
[null,{"$f":"'ID Map'!H40","v":0},{"$f":"'ID Map'!I40","v":"Module 2"},{"$f":"'ID Map'!J40","v":"Content"}]
[null,{"$f":"'ID Map'!H41","v":0},{"$f":"'ID Map'!I41","v":"Module 2"},{"$f":"'ID Map'!J41","v":"Content"}]
[null,{"$f":"'ID Map'!H42","v":0},{"$f":"'ID Map'!I42","v":"Module 2"},{"$f":"'ID Map'!J42","v":"Activity"}]
[null,{"$f":"'ID Map'!H43","v":0},{"$f":"'ID Map'!I43","v":"Module 2"},{"$f":"'ID Map'!J43","v":"Activity"}]
[null,{"$f":"'ID Map'!H44","v":0},{"$f":"'ID Map'!I44","v":0},{"$f":"'ID Map'!J44","v":0}]
[null,{"$f":"'ID Map'!H45","v":0},{"$f":"'ID Map'!I45","v":"Module 2"},{"$f":"'ID Map'!J45","v":"Content"}]
[null,{"$f":"'ID Map'!H46","v":0},{"$f":"'ID Map'!I46","v":"Module 2"},{"$f":"'ID Map'!J46","v":"Content"}]
[null,{"$f":"'ID Map'!H47","v":0},{"$f":"'ID Map'!I47","v":"Module 2"},{"$f":"'ID Map'!J47","v":"Content"}]
[null,{"$f":"'ID Map'!H48","v":0},{"$f":"'ID Map'!I48","v":"Module 2"},{"$f":"'ID Map'!J48","v":"Activity"}]
[null,{"$f":"'ID Map'!H49","v":0},{"$f":"'ID Map'!I49","v":"Module 2"},{"$f":"'ID Map'!J49","v":"Activity"}]
[null,{"$f":"'ID Map'!H50","v":0},{"$f":"'ID Map'!I50","v":0},{"$f":"'ID Map'!J50","v":0}]
[null,{"$f":"'ID Map'!H51","v":3},{"$f":"'ID Map'!I51","v":"Module 2"},{"$f":"'ID Map'!J51","v":"Content"}]
[null,{"$f":"'ID Map'!H52","v":0},{"$f":"'ID Map'!I52","v":0},{"$f":"'ID Map'!J52","v":0}]
[null,{"$f":"'ID Map'!H53","v":0},{"$f":"'ID Map'!I53","v":0},{"$f":"'ID Map'!J53","v":0}]
[null,{"$f":"'ID Map'!H54","v":3},{"$f":"'ID Map'!I54","v":"Module 3"},{"$f":"'ID Map'!J54","v":"Content"}]
[null,{"$f":"'ID Map'!H55","v":3},{"$f":"'ID Map'!I55","v":"Module 3"},{"$f":"'ID Map'!J55","v":"Content"}]
[null,{"$f":"'ID Map'!H56","v":0},{"$f":"'ID Map'!I56","v":0},{"$f":"'ID Map'!J56","v":0}]
[null,{"$f":"'ID Map'!H57","v":0},{"$f":"'ID Map'!I57","v":"Module 3"},{"$f":"'ID Map'!J57","v":"Content"}]
[null,{"$f":"'ID Map'!H58","v":0},{"$f":"'ID Map'!I58","v":"Module 3"},{"$f":"'ID Map'!J58","v":"Content"}]
[null,{"$f":"'ID Map'!H59","v":0},{"$f":"'ID Map'!I59","v":"Module 3"},{"$f":"'ID Map'!J59","v":"Content"}]
[null,{"$f":"'ID Map'!H60","v":0},{"$f":"'ID Map'!I60","v":"Module 3"},{"$f":"'ID Map'!J60","v":"Activity"}]
[null,{"$f":"'ID Map'!H61","v":0},{"$f":"'ID Map'!I61","v":"Module 3"},{"$f":"'ID Map'!J61","v":"Activity"}]
[null,{"$f":"'ID Map'!H62","v":0},{"$f":"'ID Map'!I62","v":0},{"$f":"'ID Map'!J62","v":0}]
[null,{"$f":"'ID Map'!H63","v":0},{"$f":"'ID Map'!I63","v":"Module 3"},{"$f":"'ID Map'!J63","v":"Content"}]
[null,{"$f":"'ID Map'!H64","v":0},{"$f":"'ID Map'!I64","v":"Module 3"},{"$f":"'ID Map'!J64","v":"Content"}]
[null,{"$f":"'ID Map'!H65","v":0},{"$f":"'ID Map'!I65","v":"Module 3"},{"$f":"'ID Map'!J65","v":"Content"}]
[null,{"$f":"'ID Map'!H66","v":0},{"$f":"'ID Map'!I66","v":"Module 3"},{"$f":"'ID Map'!J66","v":"Activity"}]
[null,{"$f":"'ID Map'!H67","v":0},{"$f":"'ID Map'!I67","v":"Module 3"},{"$f":"'ID Map'!J67","v":"Activity"}]
[null,{"$f":"'ID Map'!H68","v":0},{"$f":"'ID Map'!I68","v":0},{"$f":"'ID Map'!J68","v":0}]
[null,{"$f":"'ID Map'!H69","v":3},{"$f":"'ID Map'!I69","v":"Module 3"},{"$f":"'ID Map'!J69","v":"Content"}]
[null,{"$f":"'ID Map'!H70","v":0},{"$f":"'ID Map'!I70","v":0},{"$f":"'ID Map'!J70","v":0}]
[null,{"$f":"'ID Map'!H71","v":0},{"$f":"'ID Map'!I71","v":0},{"$f":"'ID Map'!J71","v":0}]
[null,{"$f":"'ID Map'!H72","v":3},{"$f":"'ID Map'!I72","v":"Module 4"},{"$f":"'ID Map'!J72","v":"Content"}]
[null,{"$f":"'ID Map'!H73","v":3},{"$f":"'ID Map'!I73","v":"Module 4"},{"$f":"'ID Map'!J73","v":"Content"}]
[null,{"$f":"'ID Map'!H74","v":0},{"$f":"'ID Map'!I74","v":0},{"$f":"'ID Map'!J74","v":0}]
[null,{"$f":"'ID Map'!H75","v":0},{"$f":"'ID Map'!I75","v":"Module 4"},{"$f":"'ID Map'!J75","v":"Content"}]
[null,{"$f":"'ID Map'!H76","v":0},{"$f":"'ID Map'!I76","v":"Module 4"},{"$f":"'ID Map'!J76","v":"Content"}]
[null,{"$f":"'ID Map'!H77","v":0},{"$f":"'ID Map'!I77","v":"Module 4"},{"$f":"'ID Map'!J77","v":"Content"}]
[null,{"$f":"'ID Map'!H78","v":0},{"$f":"'ID Map'!I78","v":"Module 4"},{"$f":"'ID Map'!J78","v":"Activity"}]
[null,{"$f":"'ID Map'!H79","v":0},{"$f":"'ID Map'!I79","v":"Module 4"},{"$f":"'ID Map'!J79","v":"Activity"}]
[null,{"$f":"'ID Map'!H80","v":0},{"$f":"'ID Map'!I80","v":0},{"$f":"'ID Map'!J80","v":0}]
[null,{"$f":"'ID Map'!H81","v":0},{"$f":"'ID Map'!I81","v":"Module 4"},{"$f":"'ID Map'!J81","v":"Content"}]
[null,{"$f":"'ID Map'!H82","v":0},{"$f":"'ID Map'!I82","v":"Module 4"},{"$f":"'ID Map'!J82","v":"Content"}]
[null,{"$f":"'ID Map'!H83","v":0},{"$f":"'ID Map'!I83","v":"Module 4"},{"$f":"'ID Map'!J83","v":"Content"}]
[null,{"$f":"'ID Map'!H84","v":0},{"$f":"'ID Map'!I84","v":"Module 4"},{"$f":"'ID Map'!J84","v":"Activity"}]
[null,{"$f":"'ID Map'!H85","v":0},{"$f":"'ID Map'!I85","v":"Module 4"},{"$f":"'ID Map'!J85","v":"Activity"}]
[null,{"$f":"'ID Map'!H86","v":0},{"$f":"'ID Map'!I86","v":0},{"$f":"'ID Map'!J86","v":0}]
[null,{"$f":"'ID Map'!H87","v":3},{"$f":"'ID Map'!I87","v":"Module 4"},{"$f":"'ID Map'!J87","v":"Content"}]
[null,{"$f":"'ID Map'!H88","v":0},{"$f":"'ID Map'!I88","v":0},{"$f":"'ID Map'!J88","v":0}]
[null,{"$f":"'ID Map'!H89","v":9},{"$f":"'ID Map'!I89","v":"Conclusion"},{"$f":"'ID Map'!J89","v":"Content"}]
[null,{"$f":"'ID Map'!H90","v":6},{"$f":"'ID Map'!I90","v":"Conclusion"},{"$f":"'ID Map'!J90","v":"Content"}]
[null,{"$f":"'ID Map'!H91","v":0},{"$f":"'ID Map'!I91","v":0},{"$f":"'ID Map'!J91","v":0}]
[null,{"$f":"'ID Map'!H92","v":0},{"$f":"'ID Map'!I92","v":0},{"$f":"'ID Map'!J92","v":0}]
[null,{"$f":"'ID Map'!H93","v":0},{"$f":"'ID Map'!I93","v":0},{"$f":"'ID Map'!J93","v":0}]
[null,{"$f":"'ID Map'!H94","v":0},{"$f":"'ID Map'!I94","v":0},{"$f":"'ID Map'!J94","v":0}]
[null,{"$f":"'ID Map'!H95","v":0},{"$f":"'ID Map'!I95","v":0},{"$f":"'ID Map'!J95","v":0}]
[null,{"$f":"'ID Map'!H96","v":0},{"$f":"'ID Map'!I96","v":0},{"$f":"'ID Map'!J96","v":0}]
[null,{"$f":"'ID Map'!H97","v":0},{"$f":"'ID Map'!I97","v":0},{"$f":"'ID Map'!J97","v":0}]
[null,{"$f":"'ID Map'!H98","v":0},{"$f":"'ID Map'!I98","v":0},{"$f":"'ID Map'!J98","v":0}]
[null,{"$f":"'ID Map'!H99","v":0},{"$f":"'ID Map'!I99","v":0},{"$f":"'ID Map'!J99","v":0}]
[null,{"$f":"'ID Map'!H100","v":0},{"$f":"'ID Map'!I100","v":0},{"$f":"'ID Map'!J100","v":0}]
[null,{"$f":"'ID Map'!H101","v":0},{"$f":"'ID Map'!I101","v":0},{"$f":"'ID Map'!J101","v":0}]
[null,{"$f":"'ID Map'!H102","v":0},{"$f":"'ID Map'!I102","v":0},{"$f":"'ID Map'!J102","v":0}]
[null,{"$f":"'ID Map'!H103","v":0},{"$f":"'ID Map'!I103","v":0},{"$f":"'ID Map'!J103","v":0}]
[null,{"$f":"'ID Map'!H104","v":0},{"$f":"'ID Map'!I104","v":0},{"$f":"'ID Map'!J104","v":0}]
[null,{"$f":"'ID Map'!H105","v":0},{"$f":"'ID Map'!I105","v":0},{"$f":"'ID Map'!J105","v":0}]
[null,{"$f":"'ID Map'!H106","v":0},{"$f":"'ID Map'!I106","v":0},{"$f":"'ID Map'!J106","v":0}]
[null,{"$f":"'ID Map'!H107","v":0},{"$f":"'ID Map'!I107","v":0},{"$f":"'ID Map'!J107","v":0}]
[null,{"$f":"'ID Map'!H108","v":0},{"$f":"'ID Map'!I108","v":0},{"$f":"'ID Map'!J108","v":0}]
[null,{"$f":"'ID Map'!H109","v":0},{"$f":"'ID Map'!I109","v":0},{"$f":"'ID Map'!J109","v":0}]
[null,{"$f":"'ID Map'!H110","v":0},{"$f":"'ID Map'!I110","v":0},{"$f":"'ID Map'!J110","v":0}]
[null,{"$f":"'ID Map'!H111","v":0},{"$f":"'ID Map'!I111","v":0},{"$f":"'ID Map'!J111","v":0}]
[null,{"$f":"'ID Map'!H112","v":0},{"$f":"'ID Map'!I112","v":0},{"$f":"'ID Map'!J112","v":0}]
[null,{"$f":"'ID Map'!H113","v":0},{"$f":"'ID Map'!I113","v":0},{"$f":"'ID Map'!J113","v":0}]
[null,{"$f":"'ID Map'!H114","v":0},{"$f":"'ID Map'!I114","v":0},{"$f":"'ID Map'!J114","v":0}]
[null,{"$f":"'ID Map'!H115","v":0},{"$f":"'ID Map'!I115","v":0},{"$f":"'ID Map'!J115","v":0}]
[null,{"$f":"'ID Map'!H116","v":0},{"$f":"'ID Map'!I116","v":0},{"$f":"'ID Map'!J116","v":0}]
[null,{"$f":"'ID Map'!H117","v":0},{"$f":"'ID Map'!I117","v":0},{"$f":"'ID Map'!J117","v":0}]
[null,{"$f":"'ID Map'!H118","v":0},{"$f":"'ID Map'!I118","v":0},{"$f":"'ID Map'!J118","v":0}]
[null,{"$f":"'ID Map'!H119","v":0},{"$f":"'ID Map'!I119","v":0},{"$f":"'ID Map'!J119","v":0}]
[null,{"$f":"'ID Map'!H120","v":0},{"$f":"'ID Map'!I120","v":0},{"$f":"'ID Map'!J120","v":0}]
[null,{"$f":"'ID Map'!H121","v":0},{"$f":"'ID Map'!I121","v":0},{"$f":"'ID Map'!J121","v":0}]
[null,{"$f":"'ID Map'!H122","v":0},{"$f":"'ID Map'!I122","v":0},{"$f":"'ID Map'!J122","v":0}]
[null,{"$f":"'ID Map'!H123","v":0},{"$f":"'ID Map'!I123","v":0},{"$f":"'ID Map'!J123","v":0}]
[null,{"$f":"'ID Map'!H124","v":0},{"$f":"'ID Map'!I124","v":0},{"$f":"'ID Map'!J124","v":0}]
[null,{"$f":"'ID Map'!H125","v":0},{"$f":"'ID Map'!I125","v":0},{"$f":"'ID Map'!J125","v":0}]
[null,{"$f":"'ID Map'!H126","v":0},{"$f":"'ID Map'!I126","v":0},{"$f":"'ID Map'!J126","v":0}]
[null,{"$f":"'ID Map'!H127","v":0},{"$f":"'ID Map'!I127","v":0},{"$f":"'ID Map'!J127","v":0}]
[null,{"$f":"'ID Map'!H128","v":0},{"$f":"'ID Map'!I128","v":0},{"$f":"'ID Map'!J128","v":0}]
[null,{"$f":"'ID Map'!H129","v":0},{"$f":"'ID Map'!I129","v":0},{"$f":"'ID Map'!J129","v":0}]
[null,{"$f":"'ID Map'!H130","v":0},{"$f":"'ID Map'!I130","v":0},{"$f":"'ID Map'!J130","v":0}]
[null,{"$f":"'ID Map'!H131","v":0},{"$f":"'ID Map'!I131","v":0},{"$f":"'ID Map'!J131","v":0}]
[null,{"$f":"'ID Map'!H132","v":0},{"$f":"'ID Map'!I132","v":0},{"$f":"'ID Map'!J132","v":0}]
[null,{"$f":"'ID Map'!H133","v":0},{"$f":"'ID Map'!I133","v":0},{"$f":"'ID Map'!J133","v":0}]
[null,{"$f":"'ID Map'!H134","v":0},{"$f":"'ID Map'!I134","v":0},{"$f":"'ID Map'!J134","v":0}]
[null,{"$f":"'ID Map'!H135","v":0},{"$f":"'ID Map'!I135","v":0},{"$f":"'ID Map'!J135","v":0}]
[null,{"$f":"'ID Map'!H136","v":0},{"$f":"'ID Map'!I136","v":0},{"$f":"'ID Map'!J136","v":0}]
[null,{"$f":"'ID Map'!H137","v":0},{"$f":"'ID Map'!I137","v":0},{"$f":"'ID Map'!J137","v":0}]
[null,{"$f":"'ID Map'!H138","v":0},{"$f":"'ID Map'!I138","v":0},{"$f":"'ID Map'!J138","v":0}]
[null,{"$f":"'ID Map'!H139","v":0},{"$f":"'ID Map'!I139","v":0},{"$f":"'ID Map'!J139","v":0}]
[null,{"$f":"'ID Map'!H140","v":0},{"$f":"'ID Map'!I140","v":0},{"$f":"'ID Map'!J140","v":0}]
[null,{"$f":"'ID Map'!H141","v":0},{"$f":"'ID Map'!I141","v":0},{"$f":"'ID Map'!J141","v":0}]
[null,{"$f":"'ID Map'!H142","v":0},{"$f":"'ID Map'!I142","v":0},{"$f":"'ID Map'!J142","v":0}]
[null,{"$f":"'ID Map'!H143","v":0},{"$f":"'ID Map'!I143","v":0},{"$f":"'ID Map'!J143","v":0}]
[null,{"$f":"'ID Map'!H144","v":0},{"$f":"'ID Map'!I144","v":0},{"$f":"'ID Map'!J144","v":0}]
[null,{"$f":"'ID Map'!H145","v":0},{"$f":"'ID Map'!I145","v":0},{"$f":"'ID Map'!J145","v":0}]
[null,{"$f":"'ID Map'!H146","v":0},{"$f":"'ID Map'!I146","v":0},{"$f":"'ID Map'!J146","v":0}]
[null,{"$f":"'ID Map'!H147","v":0},{"$f":"'ID Map'!I147","v":0},{"$f":"'ID Map'!J147","v":0}]
[null,{"$f":"'ID Map'!H148","v":0},{"$f":"'ID Map'!I148","v":0},{"$f":"'ID Map'!J148","v":0}]
[null,{"$f":"'ID Map'!H149","v":0},{"$f":"'ID Map'!I149","v":0},{"$f":"'ID Map'!J149","v":0}]
[null,{"$f":"'ID Map'!H150","v":0},{"$f":"'ID Map'!I150","v":0},{"$f":"'ID Map'!J150","v":0}]
[null,{"$f":"'ID Map'!H151","v":0},{"$f":"'ID Map'!I151","v":0},{"$f":"'ID Map'!J151","v":0}]
[null,{"$f":"'ID Map'!H152","v":0},{"$f":"'ID Map'!I152","v":0},{"$f":"'ID Map'!J152","v":0}]
[null,{"$f":"'ID Map'!H153","v":0},{"$f":"'ID Map'!I153","v":0},{"$f":"'ID Map'!J153","v":0}]
[null,{"$f":"'ID Map'!H154","v":0},{"$f":"'ID Map'!I154","v":0},{"$f":"'ID Map'!J154","v":0}]
[null,{"$f":"'ID Map'!H155","v":0},{"$f":"'ID Map'!I155","v":0},{"$f":"'ID Map'!J155","v":0}]
[null,{"$f":"'ID Map'!H156","v":0},{"$f":"'ID Map'!I156","v":0},{"$f":"'ID Map'!J156","v":0}]
[null,{"$f":"'ID Map'!H157","v":0},{"$f":"'ID Map'!I157","v":0},{"$f":"'ID Map'!J157","v":0}]
[null,{"$f":"'ID Map'!H158","v":0},{"$f":"'ID Map'!I158","v":0},{"$f":"'ID Map'!J158","v":0}]
[null,{"$f":"'ID Map'!H159","v":0},{"$f":"'ID Map'!I159","v":0},{"$f":"'ID Map'!J159","v":0}]
[null,{"$f":"'ID Map'!H160","v":0},{"$f":"'ID Map'!I160","v":0},{"$f":"'ID Map'!J160","v":0}]
[null,{"$f":"'ID Map'!H161","v":0},{"$f":"'ID Map'!I161","v":0},{"$f":"'ID Map'!J161","v":0}]
[null,{"$f":"'ID Map'!H162","v":0},{"$f":"'ID Map'!I162","v":0},{"$f":"'ID Map'!J162","v":0}]
[null,{"$f":"'ID Map'!H163","v":0},{"$f":"'ID Map'!I163","v":0},{"$f":"'ID Map'!J163","v":0}]
[null,{"$f":"'ID Map'!H164","v":0},{"$f":"'ID Map'!I164","v":0},{"$f":"'ID Map'!J164","v":0}]
[null,{"$f":"'ID Map'!H165","v":0},{"$f":"'ID Map'!I165","v":0},{"$f":"'ID Map'!J165","v":0}]
[null,{"$f":"'ID Map'!H166","v":0},{"$f":"'ID Map'!I166","v":0},{"$f":"'ID Map'!J166","v":0}]
[null,{"$f":"'ID Map'!H167","v":0},{"$f":"'ID Map'!I167","v":0},{"$f":"'ID Map'!J167","v":0}]
[null,{"$f":"'ID Map'!H168","v":0},{"$f":"'ID Map'!I168","v":0},{"$f":"'ID Map'!J168","v":0}]
[null,{"$f":"'ID Map'!H169","v":0},{"$f":"'ID Map'!I169","v":0},{"$f":"'ID Map'!J169","v":0}]
[null,{"$f":"'ID Map'!H170","v":0},{"$f":"'ID Map'!I170","v":0},{"$f":"'ID Map'!J170","v":0}]
[null,{"$f":"'ID Map'!H171","v":0},{"$f":"'ID Map'!I171","v":0},{"$f":"'ID Map'!J171","v":0}]
[null,{"$f":"'ID Map'!H172","v":0},{"$f":"'ID Map'!I172","v":0},{"$f":"'ID Map'!J172","v":0}]
[null,{"$f":"'ID Map'!H173","v":0},{"$f":"'ID Map'!I173","v":0},{"$f":"'ID Map'!J173","v":0}]
[null,{"$f":"'ID Map'!H174","v":0},{"$f":"'ID Map'!I174","v":0},{"$f":"'ID Map'!J174","v":0}]
[null,{"$f":"'ID Map'!H175","v":0},{"$f":"'ID Map'!I175","v":0},{"$f":"'ID Map'!J175","v":0}]
[null,{"$f":"'ID Map'!H176","v":0},{"$f":"'ID Map'!I176","v":0},{"$f":"'ID Map'!J176","v":0}]
[null,{"$f":"'ID Map'!H177","v":0},{"$f":"'ID Map'!I177","v":0},{"$f":"'ID Map'!J177","v":0}]
[null,{"$f":"'ID Map'!H178","v":0},{"$f":"'ID Map'!I178","v":0},{"$f":"'ID Map'!J178","v":0}]
[null,{"$f":"'ID Map'!H179","v":0},{"$f":"'ID Map'!I179","v":0},{"$f":"'ID Map'!J179","v":0}]
[null,{"$f":"'ID Map'!H180","v":0},{"$f":"'ID Map'!I180","v":0},{"$f":"'ID Map'!J180","v":0}]
[null,{"$f":"'ID Map'!H181","v":0},{"$f":"'ID Map'!I181","v":0},{"$f":"'ID Map'!J181","v":0}]
[null,{"$f":"'ID Map'!H182","v":0},{"$f":"'ID Map'!I182","v":0},{"$f":"'ID Map'!J182","v":0}]
[null,{"$f":"'ID Map'!H183","v":0},{"$f":"'ID Map'!I183","v":0},{"$f":"'ID Map'!J183","v":0}]
[null,{"$f":"'ID Map'!H184","v":0},{"$f":"'ID Map'!I184","v":0},{"$f":"'ID Map'!J184","v":0}]
[null,{"$f":"'ID Map'!H185","v":0},{"$f":"'ID Map'!I185","v":0},{"$f":"'ID Map'!J185","v":0}]
[null,{"$f":"'ID Map'!H186","v":0},{"$f":"'ID Map'!I186","v":0},{"$f":"'ID Map'!J186","v":0}]
[null,{"$f":"'ID Map'!H187","v":0},{"$f":"'ID Map'!I187","v":0},{"$f":"'ID Map'!J187","v":0}]
[null,{"$f":"'ID Map'!H188","v":0},{"$f":"'ID Map'!I188","v":0},{"$f":"'ID Map'!J188","v":0}]
[null,{"$f":"'ID Map'!H189","v":0},{"$f":"'ID Map'!I189","v":0},{"$f":"'ID Map'!J189","v":0}]
[null,{"$f":"'ID Map'!H190","v":0},{"$f":"'ID Map'!I190","v":0},{"$f":"'ID Map'!J190","v":0}]
[null,{"$f":"'ID Map'!H191","v":0},{"$f":"'ID Map'!I191","v":0},{"$f":"'ID Map'!J191","v":0}]
[null,{"$f":"'ID Map'!H192","v":0},{"$f":"'ID Map'!I192","v":0},{"$f":"'ID Map'!J192","v":0}]
[null,{"$f":"'ID Map'!H193","v":0},{"$f":"'ID Map'!I193","v":0},{"$f":"'ID Map'!J193","v":0}]
[null,{"$f":"'ID Map'!H194","v":0},{"$f":"'ID Map'!I194","v":0},{"$f":"'ID Map'!J194","v":0}]
[null,{"$f":"'ID Map'!H195","v":0},{"$f":"'ID Map'!I195","v":0},{"$f":"'ID Map'!J195","v":0}]
[null,{"$f":"'ID Map'!H196","v":0},{"$f":"'ID Map'!I196","v":0},{"$f":"'ID Map'!J196","v":0}]
[null,{"$f":"'ID Map'!H197","v":0},{"$f":"'ID Map'!I197","v":0},{"$f":"'ID Map'!J197","v":0}]
[null,{"$f":"'ID Map'!H198","v":0},{"$f":"'ID Map'!I198","v":0},{"$f":"'ID Map'!J198","v":0}]
[null,{"$f":"'ID Map'!H199","v":0},{"$f":"'ID Map'!I199","v":0},{"$f":"'ID Map'!J199","v":0}]
[null,{"$f":"'ID Map'!H200","v":0},{"$f":"'ID Map'!I200","v":0},{"$f":"'ID Map'!J200","v":0}]
[null,{"$f":"'ID Map'!H201","v":0},{"$f":"'ID Map'!I201","v":0},{"$f":"'ID Map'!J201","v":0}]
[null,{"$f":"'ID Map'!H202","v":0},{"$f":"'ID Map'!I202","v":0},{"$f":"'ID Map'!J202","v":0}]
[null,{"$f":"'ID Map'!H203","v":0},{"$f":"'ID Map'!I203","v":0},{"$f":"'ID Map'!J203","v":0}]
[null,{"$f":"'ID Map'!H204","v":0},{"$f":"'ID Map'!I204","v":0},{"$f":"'ID Map'!J204","v":0}]
[null,{"$f":"'ID Map'!H205","v":0},{"$f":"'ID Map'!I205","v":0},{"$f":"'ID Map'!J205","v":0}]
[null,{"$f":"'ID Map'!H206","v":0},{"$f":"'ID Map'!I206","v":0},{"$f":"'ID Map'!J206","v":0}]
[null,{"$f":"'ID Map'!H207","v":0},{"$f":"'ID Map'!I207","v":0},{"$f":"'ID Map'!J207","v":0}]
[null,{"$f":"'ID Map'!H208","v":0},{"$f":"'ID Map'!I208","v":0},{"$f":"'ID Map'!J208","v":0}]
[null,{"$f":"'ID Map'!H209","v":0},{"$f":"'ID Map'!I209","v":0},{"$f":"'ID Map'!J209","v":0}]
[null,{"$f":"'ID Map'!H210","v":0},{"$f":"'ID Map'!I210","v":0},{"$f":"'ID Map'!J210","v":0}]
[null,{"$f":"'ID Map'!H211","v":0},{"$f":"'ID Map'!I211","v":0},{"$f":"'ID Map'!J211","v":0}]
[null,{"$f":"'ID Map'!H212","v":0},{"$f":"'ID Map'!I212","v":0},{"$f":"'ID Map'!J212","v":0}]
[null,{"$f":"'ID Map'!H213","v":0},{"$f":"'ID Map'!I213","v":0},{"$f":"'ID Map'!J213","v":0}]
[null,{"$f":"'ID Map'!H214","v":0},{"$f":"'ID Map'!I214","v":0},{"$f":"'ID Map'!J214","v":0}]
[null,{"$f":"'ID Map'!H215","v":0},{"$f":"'ID Map'!I215","v":0},{"$f":"'ID Map'!J215","v":0}]
[null,{"$f":"'ID Map'!H216","v":0},{"$f":"'ID Map'!I216","v":0},{"$f":"'ID Map'!J216","v":0}]
[null,{"$f":"'ID Map'!H217","v":0},{"$f":"'ID Map'!I217","v":0},{"$f":"'ID Map'!J217","v":0}]
[null,{"$f":"'ID Map'!H218","v":0},{"$f":"'ID Map'!I218","v":0},{"$f":"'ID Map'!J218","v":0}]
[null,{"$f":"'ID Map'!H219","v":0},{"$f":"'ID Map'!I219","v":0},{"$f":"'ID Map'!J219","v":0}]
[null,{"$f":"'ID Map'!H220","v":0},{"$f":"'ID Map'!I220","v":0},{"$f":"'ID Map'!J220","v":0}]
[null,{"$f":"'ID Map'!H221","v":0},{"$f":"'ID Map'!I221","v":0},{"$f":"'ID Map'!J221","v":0}]
[null,{"$f":"'ID Map'!H222","v":0},{"$f":"'ID Map'!I222","v":0},{"$f":"'ID Map'!J222","v":0}]
[null,{"$f":"'ID Map'!H223","v":0},{"$f":"'ID Map'!I223","v":0},{"$f":"'ID Map'!J223","v":0}]
[null,{"$f":"'ID Map'!H224","v":0},{"$f":"'ID Map'!I224","v":0},{"$f":"'ID Map'!J224","v":0}]
[null,{"$f":"'ID Map'!H225","v":0},{"$f":"'ID Map'!I225","v":0},{"$f":"'ID Map'!J225","v":0}]
[null,{"$f":"'ID Map'!H226","v":0},{"$f":"'ID Map'!I226","v":0},{"$f":"'ID Map'!J226","v":0}]
[null,{"$f":"'ID Map'!H227","v":0},{"$f":"'ID Map'!I227","v":0},{"$f":"'ID Map'!J227","v":0}]
[null,{"$f":"'ID Map'!H228","v":0},{"$f":"'ID Map'!I228","v":0},{"$f":"'ID Map'!J228","v":0}]
[null,{"$f":"'ID Map'!H229","v":0},{"$f":"'ID Map'!I229","v":0},{"$f":"'ID Map'!J229","v":0}]
[null,{"$f":"'ID Map'!H230","v":0},{"$f":"'ID Map'!I230","v":0},{"$f":"'ID Map'!J230","v":0}]
[null,{"$f":"'ID Map'!H231","v":0},{"$f":"'ID Map'!I231","v":0},{"$f":"'ID Map'!J231","v":0}]
[null,{"$f":"'ID Map'!H232","v":0},{"$f":"'ID Map'!I232","v":0},{"$f":"'ID Map'!J232","v":0}]
[null,{"$f":"'ID Map'!H233","v":0},{"$f":"'ID Map'!I233","v":0},{"$f":"'ID Map'!J233","v":0}]
[null,{"$f":"'ID Map'!H234","v":0},{"$f":"'ID Map'!I234","v":0},{"$f":"'ID Map'!J234","v":0}]
[null,{"$f":"'ID Map'!H235","v":0},{"$f":"'ID Map'!I235","v":0},{"$f":"'ID Map'!J235","v":0}]
[null,{"$f":"'ID Map'!H236","v":0},{"$f":"'ID Map'!I236","v":0},{"$f":"'ID Map'!J236","v":0}]
[null,{"$f":"'ID Map'!H237","v":0},{"$f":"'ID Map'!I237","v":0},{"$f":"'ID Map'!J237","v":0}]
[null,{"$f":"'ID Map'!H238","v":0},{"$f":"'ID Map'!I238","v":0},{"$f":"'ID Map'!J238","v":0}]
[null,{"$f":"'ID Map'!H239","v":0},{"$f":"'ID Map'!I239","v":0},{"$f":"'ID Map'!J239","v":0}]
[null,{"$f":"'ID Map'!H240","v":0},{"$f":"'ID Map'!I240","v":0},{"$f":"'ID Map'!J240","v":0}]
[null,{"$f":"'ID Map'!H241","v":0},{"$f":"'ID Map'!I241","v":0},{"$f":"'ID Map'!J241","v":0}]
[null,{"$f":"'ID Map'!H242","v":0},{"$f":"'ID Map'!I242","v":0},{"$f":"'ID Map'!J242","v":0}]
[null,{"$f":"'ID Map'!H243","v":0},{"$f":"'ID Map'!I243","v":0},{"$f":"'ID Map'!J243","v":0}]
[null,{"$f":"'ID Map'!H244","v":0},{"$f":"'ID Map'!I244","v":0},{"$f":"'ID Map'!J244","v":0}]
[null,{"$f":"'ID Map'!H245","v":0},{"$f":"'ID Map'!I245","v":0},{"$f":"'ID Map'!J245","v":0}]
[null,{"$f":"'ID Map'!H246","v":0},{"$f":"'ID Map'!I246","v":0},{"$f":"'ID Map'!J246","v":0}]
[null,{"$f":"'ID Map'!H247","v":0},{"$f":"'ID Map'!I247","v":0},{"$f":"'ID Map'!J247","v":0}]
[null,{"$f":"'ID Map'!H248","v":0},{"$f":"'ID Map'!I248","v":0},{"$f":"'ID Map'!J248","v":0}]
[null,{"$f":"'ID Map'!H249","v":0},{"$f":"'ID Map'!I249","v":0},{"$f":"'ID Map'!J249","v":0}]
[null,{"$f":"'ID Map'!H250","v":0},{"$f":"'ID Map'!I250","v":0},{"$f":"'ID Map'!J250","v":0}]
[null,{"$f":"'ID Map'!H251","v":0},{"$f":"'ID Map'!I251","v":0},{"$f":"'ID Map'!J251","v":0}]
[null,{"$f":"'ID Map'!H252","v":0},{"$f":"'ID Map'!I252","v":0},{"$f":"'ID Map'!J252","v":0}]
[null,{"$f":"'ID Map'!H253","v":0},{"$f":"'ID Map'!I253","v":0},{"$f":"'ID Map'!J253","v":0}]
[null,{"$f":"'ID Map'!H254","v":0},{"$f":"'ID Map'!I254","v":0},{"$f":"'ID Map'!J254","v":0}]
[null,{"$f":"'ID Map'!H255","v":0},{"$f":"'ID Map'!I255","v":0},{"$f":"'ID Map'!J255","v":0}]
[null,{"$f":"'ID Map'!H256","v":0},{"$f":"'ID Map'!I256","v":0},{"$f":"'ID Map'!J256","v":0}]